BEGIN:VCALENDAR
VERSION:2.0
PRODID:-//Library Market//iCal Export//EN
BEGIN:VEVENT
SUMMARY:Funding Research Committee Workshop
UID:10451
DTSTAMP:20260422T205100Z
DTSTART:20260520T221500Z
DTEND:20260520T224500Z
LOCATION:501 South Maitland Avenue, Maitland, FL 32751, United States
ROOM: Director&#039;s Conference Room
DESCRIPTION:
URL:https://www.maitlandpubliclibrary.org/event/funding-research-committee
 -workshop-10451
END:VEVENT
END:VCALENDAR
