BEGIN:VCALENDAR
VERSION:2.0
PRODID:-//Library Market//iCal Export//EN
BEGIN:VEVENT
SUMMARY:Can You Dig It? An After Hours Jazz Event
UID:10326
DTSTAMP:20260425T013000Z
DTSTART:20260605T223000Z
DTEND:20260606T003000Z
LOCATION:501 South Maitland Avenue, Maitland, FL 32751, United States
ROOM: Meeting Room
DESCRIPTION:Summer Reading is upon us! Can you dig it?As you gear up to â€
 śDig into Readingâ€ť, join us for a literary themed jazz lounge night. We&
 #039;ll have small bites, mocktails, a craft station, and lively jazz musi
 c. There will be a photo booth, so dress for a swinging good time (costume
 s welcome but not required). The evening is sure to be the beeâ€™s knees! 
 Register below to secure your spot, and weâ€™ll see you on the dance floor
 !
URL:https://www.maitlandpubliclibrary.org/jazzlounge
END:VEVENT
END:VCALENDAR
